BEGIN:VCALENDAR
VERSION:2.0
PRODID:-//Squarespace Inc/Squarespace 6//v6//EN
BEGIN:VEVENT
UID:59938c30db29d634de1b7f2c@squarespace.com
DTSTAMP:20170816T001015Z
DTSTART:20171014T003000Z
DTEND:20171015T035900Z
SUMMARY:Justin Wellington
END:VEVENT
END:VCALENDAR
