BEGIN:VCALENDAR
VERSION:2.0
PRODID:-//Squarespace Inc/Squarespace 6//v6//EN
BEGIN:VEVENT
UID:59d2c94764b05f15a136f106@squarespace.com
DTSTAMP:20171002T231913Z
DTSTART:20171026T233000Z
DTEND:20171027T035900Z
SUMMARY:Latin Party
END:VEVENT
END:VCALENDAR
