BEGIN:VCALENDAR
VERSION:2.0
PRODID:-//Squarespace Inc/Squarespace 6//v6//EN
BEGIN:VEVENT
UID:5993a3d94c0dbfb3fbf52299@squarespace.com
DTSTAMP:20170816T014718Z
DTSTART:20171028T020000Z
DTEND:20171028T035900Z
SUMMARY:Girl Radio
END:VEVENT
END:VCALENDAR
