BEGIN:VCALENDAR
VERSION:2.0
PRODID:-//Squarespace Inc/Squarespace 6//v6//EN
BEGIN:VEVENT
UID:59d2c462017db271edfbd121@squarespace.com
DTSTAMP:20171015T231349Z
DTSTART:20171031T230000Z
DTEND:20171101T035900Z
SUMMARY:🕷 ✨ HALL🎃 WEEN PARTY🕸 ✨ 
END:VEVENT
END:VCALENDAR
