BEGIN:VCALENDAR
VERSION:2.0
PRODID:-//Squarespace Inc/Squarespace 6//v6//EN
BEGIN:VEVENT
UID:59d2bb4a59cc68a6366a80f4@squarespace.com
DTSTAMP:20171002T222119Z
DTSTART:20171005T223000Z
DTEND:20171006T035900Z
SUMMARY:Latin Party
END:VEVENT
END:VCALENDAR
