BEGIN:VCALENDAR
VERSION:2.0
PRODID:-//Squarespace Inc/Squarespace 6//v6//EN
BEGIN:VEVENT
UID:5993a1debe42d66fd56a4c8b@squarespace.com
DTSTAMP:20170816T013859Z
DTSTART:20171007T020000Z
DTEND:20171007T035900Z
SUMMARY:Girl Radio
END:VEVENT
END:VCALENDAR
