BEGIN:VCALENDAR
VERSION:2.0
PRODID:-//Squarespace Inc/Squarespace 6//v6//EN
BEGIN:VEVENT
UID:5993a2a4d7bdce6669a19c79@squarespace.com
DTSTAMP:20170816T014141Z
DTSTART:20171008T020000Z
DTEND:20171008T035900Z
SUMMARY:P.OMM
END:VEVENT
END:VCALENDAR
