BEGIN:VCALENDAR
VERSION:2.0
PRODID:-//Squarespace Inc/Squarespace 6//v6//EN
BEGIN:VEVENT
UID:5993a5e76b8f5b8a32da9dd0@squarespace.com
DTSTAMP:20170816T015513Z
DTSTART:20171111T030000Z
DTEND:20171111T045900Z
SUMMARY:The Code
END:VEVENT
END:VCALENDAR
