BEGIN:VCALENDAR
VERSION:2.0
PRODID:-//Squarespace Inc/Squarespace 6//v6//EN
BEGIN:VEVENT
UID:5993a60f9f7456aafbe593ed@squarespace.com
DTSTAMP:20170816T015625Z
DTSTART:20171118T030000Z
DTEND:20171118T045900Z
SUMMARY:Girl Radio
END:VEVENT
END:VCALENDAR
