BEGIN:VCALENDAR
VERSION:2.0
PRODID:-//Squarespace Inc/Squarespace 6//v6//EN
BEGIN:VEVENT
UID:5993a6d5cd39c3ca7415ffee@squarespace.com
DTSTAMP:20170816T020001Z
DTSTART:20171119T030000Z
DTEND:20171119T045900Z
SUMMARY:The Code
END:VEVENT
END:VCALENDAR
