BEGIN:VCALENDAR
VERSION:2.0
PRODID:-//Squarespace Inc/Squarespace 6//v6//EN
BEGIN:VEVENT
UID:5a14bf7324a694106dcbf3b7@squarespace.com
DTSTAMP:20171122T000841Z
DTSTART:20171124T003000Z
DTEND:20171124T045900Z
SUMMARY:Latin Party with DJ Renato
END:VEVENT
END:VCALENDAR
