BEGIN:VCALENDAR
VERSION:2.0
PRODID:-//Squarespace Inc/Squarespace 6//v6//EN
BEGIN:VEVENT
UID:5a14c0f9ec212d9bd339580d@squarespace.com
DTSTAMP:20171122T001423Z
DTSTART:20171125T003000Z
DTEND:20171126T045900Z
SUMMARY:Grand Theft Audio
END:VEVENT
END:VCALENDAR
