BEGIN:VCALENDAR
VERSION:2.0
PRODID:-//Squarespace Inc/Squarespace 6//v6//EN
BEGIN:VEVENT
UID:5a14c27df9619afa6a84aa38@squarespace.com
DTSTAMP:20171122T002143Z
DTSTART:20171129T003000Z
DTEND:20171129T045900Z
SUMMARY:Hospitality Tuesday with DJ Renato & Nicky G
END:VEVENT
END:VCALENDAR
