BEGIN:VCALENDAR
VERSION:2.0
PRODID:-//Squarespace Inc/Squarespace 6//v6//EN
BEGIN:VEVENT
UID:59938e41db29d634de1b9cd7@squarespace.com
DTSTAMP:20170816T001536Z
DTSTART:20171104T003000Z
DTEND:20171105T035900Z
SUMMARY:Justin Wellington
END:VEVENT
END:VCALENDAR
