BEGIN:VCALENDAR
VERSION:2.0
PRODID:-//Squarespace Inc/Squarespace 6//v6//EN
BEGIN:VEVENT
UID:5a25ee0353450a2aba5772e5@squarespace.com
DTSTAMP:20171205T005412Z
DTSTART:20171213T010000Z
DTEND:20171213T045900Z
SUMMARY:DJ Renatino & Nicky G
END:VEVENT
END:VCALENDAR
