BEGIN:VCALENDAR
VERSION:2.0
PRODID:-//Squarespace Inc/Squarespace 6//v6//EN
BEGIN:VEVENT
UID:5a25ee55e4966b9cccf826dd@squarespace.com
DTSTAMP:20171205T005513Z
DTSTART:20171216T010000Z
DTEND:20171216T045900Z
SUMMARY:Girl RADIO
END:VEVENT
END:VCALENDAR
