BEGIN:VCALENDAR
VERSION:2.0
PRODID:-//Squarespace Inc/Squarespace 6//v6//EN
BEGIN:VEVENT
UID:5a25eef924a694db5acd22c0@squarespace.com
DTSTAMP:20171205T005800Z
DTSTART:20171217T010000Z
DTEND:20171217T045900Z
SUMMARY:DJ ALLAN AY
END:VEVENT
END:VCALENDAR
