BEGIN:VCALENDAR
VERSION:2.0
PRODID:-//Squarespace Inc/Squarespace 6//v6//EN
BEGIN:VEVENT
UID:5a14c64fe2c483f5ad2d4b8f@squarespace.com
DTSTAMP:20171122T003612Z
DTSTART:20171203T010000Z
DTEND:20171203T045900Z
SUMMARY:DJ Andy & P.O.MM
END:VEVENT
END:VCALENDAR
