BEGIN:VCALENDAR
VERSION:2.0
PRODID:-//Squarespace Inc/Squarespace 6//v6//EN
BEGIN:VEVENT
UID:5a25ef284192028cc49e7aeb@squarespace.com
DTSTAMP:20171205T005858Z
DTSTART:20171223T010000Z
DTEND:20171224T045900Z
SUMMARY:Grand Theft AUDIO
END:VEVENT
END:VCALENDAR
