BEGIN:VCALENDAR
VERSION:2.0
PRODID:-//Squarespace Inc/Squarespace 6//v6//EN
BEGIN:VEVENT
UID:5a25ef7e0d9297bd22ce9fa9@squarespace.com
DTSTAMP:20171205T010010Z
DTSTART:20171227T010000Z
DTEND:20171227T045900Z
SUMMARY:BOXING DAY BASH
END:VEVENT
END:VCALENDAR
