BEGIN:VCALENDAR
VERSION:2.0
PRODID:-//Squarespace Inc/Squarespace 6//v6//EN
BEGIN:VEVENT
UID:5a127bfbc8302511615f77ba@squarespace.com
DTSTAMP:20171205T011114Z
DTSTART:20171231T230000Z
DTEND:20180101T090000Z
SUMMARY:NYE White Party
END:VEVENT
END:VCALENDAR
