BEGIN:VCALENDAR
VERSION:2.0
PRODID:-//Squarespace Inc/Squarespace 6//v6//EN
BEGIN:VEVENT
UID:5a25efa771c10b1e7a2769e2@squarespace.com
DTSTAMP:20171205T010244Z
DTSTART:20171230T013000Z
DTEND:20171231T045900Z
SUMMARY:GIRL RADIO
END:VEVENT
END:VCALENDAR
