BEGIN:VCALENDAR
VERSION:2.0
PRODID:-//Squarespace Inc/Squarespace 6//v6//EN
BEGIN:VEVENT
UID:5a25e8a49140b751d5befd16@squarespace.com
DTSTAMP:20171205T003504Z
DTSTART:20171206T010000Z
DTEND:20171206T040000Z
SUMMARY:DJ Andy & Nicky G
END:VEVENT
END:VCALENDAR
