BEGIN:VCALENDAR
VERSION:2.0
PRODID:-//Squarespace Inc/Squarespace 6//v6//EN
BEGIN:VEVENT
UID:5a25eac39140b751d5bf5e45@squarespace.com
DTSTAMP:20180216T043233Z
DTSTART:20180224T010000Z
DTEND:20180224T045900Z
SUMMARY:DJ ANDY
END:VEVENT
END:VCALENDAR
