BEGIN:VCALENDAR
VERSION:2.0
PRODID:-//Squarespace Inc/Squarespace 6//v6//EN
BEGIN:VEVENT
UID:5a25eb42652deaa854909466@squarespace.com
DTSTAMP:20171205T004215Z
DTSTART:20171210T010000Z
DTEND:20171210T045900Z
SUMMARY:P.O.MM
END:VEVENT
END:VCALENDAR
