BEGIN:VCALENDAR
VERSION:2.0
PRODID:-//Squarespace Inc/Squarespace 6//v6//EN
BEGIN:VEVENT
UID:58aa74eebf629aea7b1d24ab@squarespace.com
DTSTAMP:20170316T104029Z
DTSTART:20170322T000000Z
DTEND:20170322T010000Z
SUMMARY:Cane Toad Racing
END:VEVENT
END:VCALENDAR
