BEGIN:VCALENDAR
VERSION:2.0
PRODID:-//Squarespace Inc/Squarespace 6//v6//EN
BEGIN:VEVENT
UID:58a3edebf5e23198112cb5a6@squarespace.com
DTSTAMP:20170727T055955Z
DTSTART:20170930T003000Z
DTEND:20171001T035900Z
SUMMARY:Grand Theft Audio
END:VEVENT
END:VCALENDAR
