BEGIN:VCALENDAR
VERSION:2.0
PRODID:-//Squarespace Inc/Squarespace 6//v6//EN
BEGIN:VEVENT
UID:58c8d4903e00be19b25a4a6e@squarespace.com
DTSTAMP:20170727T053628Z
DTSTART:20170805T010000Z
DTEND:20170805T035900Z
SUMMARY:Girl Radio
END:VEVENT
END:VCALENDAR
