BEGIN:VCALENDAR
VERSION:2.0
PRODID:-//Squarespace Inc/Squarespace 6//v6//EN
BEGIN:VEVENT
UID:58ca6aa2e58c627418057c60@squarespace.com
DTSTAMP:20170522T232453Z
DTSTART:20170618T010000Z
DTEND:20170618T035900Z
SUMMARY:DJ Pomm
END:VEVENT
END:VCALENDAR
