BEGIN:VCALENDAR
VERSION:2.0
PRODID:-//Squarespace Inc/Squarespace 6//v6//EN
BEGIN:VEVENT
UID:58ca6c8d03596e662a43167d@squarespace.com
DTSTAMP:20170422T001715Z
DTSTART:20170428T010000Z
DTEND:20170428T035900Z
SUMMARY:Karaoke with Nicky G
END:VEVENT
END:VCALENDAR
