BEGIN:VCALENDAR
VERSION:2.0
PRODID:-//Squarespace Inc/Squarespace 6//v6//EN
BEGIN:VEVENT
UID:58ca6dca17bffc68fccad6d5@squarespace.com
DTSTAMP:20170316T105056Z
DTSTART:20170325T010000Z
DTEND:20170325T035900Z
SUMMARY:Grand Theft Audio Duo
END:VEVENT
END:VCALENDAR
