BEGIN:VCALENDAR
VERSION:2.0
PRODID:-//Squarespace Inc/Squarespace 6//v6//EN
BEGIN:VEVENT
UID:58a3ee6f414fb58912bd442c@squarespace.com
DTSTAMP:20171122T002231Z
DTSTART:20171202T013000Z
DTEND:20171202T045900Z
SUMMARY:Girl Radio
END:VEVENT
END:VCALENDAR
