BEGIN:VCALENDAR
VERSION:2.0
PRODID:-//Squarespace Inc/Squarespace 6//v6//EN
BEGIN:VEVENT
UID:58ca70bd579fb31227d7c31e@squarespace.com
DTSTAMP:20170316T110343Z
DTSTART:20170331T000000Z
DTEND:20170331T010000Z
SUMMARY:Cane Toad Racing
END:VEVENT
END:VCALENDAR
