BEGIN:VCALENDAR
VERSION:2.0
PRODID:-//Squarespace Inc/Squarespace 6//v6//EN
BEGIN:VEVENT
UID:58dee7332e69cfd46aaed360@squarespace.com
DTSTAMP:20170522T232431Z
DTSTART:20170604T000000Z
DTEND:20170604T035900Z
SUMMARY:DJ Andy and Neil Wes
END:VEVENT
END:VCALENDAR
