BEGIN:VCALENDAR
VERSION:2.0
PRODID:-//Squarespace Inc/Squarespace 6//v6//EN
BEGIN:VEVENT
UID:58d9798186e6c0128869ac70@squarespace.com
DTSTAMP:20170327T204934Z
DTSTART:20170415T230000Z
DTEND:20170416T035900Z
SUMMARY:Back 2 School Party
END:VEVENT
END:VCALENDAR
