BEGIN:VCALENDAR
VERSION:2.0
PRODID:-//Squarespace Inc/Squarespace 6//v6//EN
BEGIN:VEVENT
UID:58f7d4901b631bd3452245db@squarespace.com
DTSTAMP:20170419T212321Z
DTSTART:20170422T010000Z
DTEND:20170422T035900Z
SUMMARY:Nick Koschel Duo
END:VEVENT
END:VCALENDAR
