BEGIN:VCALENDAR
VERSION:2.0
PRODID:-//Squarespace Inc/Squarespace 6//v6//EN
BEGIN:VEVENT
UID:58f7d4f46a4963b58ab16222@squarespace.com
DTSTAMP:20170419T212445Z
DTSTART:20170423T010000Z
DTEND:20170423T035900Z
SUMMARY:Nick Koschel Duo
END:VEVENT
END:VCALENDAR
