BEGIN:VCALENDAR
VERSION:2.0
PRODID:-//Squarespace Inc/Squarespace 6//v6//EN
BEGIN:VEVENT
UID:58faa0b45016e1cc36beed46@squarespace.com
DTSTAMP:20170422T001641Z
DTSTART:20170424T003000Z
DTEND:20170424T035900Z
SUMMARY:DJ Andy
END:VEVENT
END:VCALENDAR
