BEGIN:VCALENDAR
VERSION:2.0
PRODID:-//Squarespace Inc/Squarespace 6//v6//EN
BEGIN:VEVENT
UID:58faa35ed482e99b5a231c32@squarespace.com
DTSTAMP:20170422T002822Z
DTSTART:20170426T000000Z
DTEND:20170426T035900Z
SUMMARY:Anzac Day Recovery
END:VEVENT
END:VCALENDAR
