BEGIN:VCALENDAR
VERSION:2.0
PRODID:-//Squarespace Inc/Squarespace 6//v6//EN
BEGIN:VEVENT
UID:58f7d6a8a5790a1a78c0c62e@squarespace.com
DTSTAMP:20170419T213214Z
DTSTART:20170429T010000Z
DTEND:20170430T035900Z
SUMMARY:Grand Theft Audio
END:VEVENT
END:VCALENDAR
