BEGIN:VCALENDAR
VERSION:2.0
PRODID:-//Squarespace Inc/Squarespace 6//v6//EN
BEGIN:VEVENT
UID:58faa4a9d482e99b5a232aea@squarespace.com
DTSTAMP:20170422T003432Z
DTSTART:20170501T000000Z
DTEND:20170501T035900Z
SUMMARY:DJ Andy
END:VEVENT
END:VCALENDAR
