BEGIN:VCALENDAR
VERSION:2.0
PRODID:-//Squarespace Inc/Squarespace 6//v6//EN
BEGIN:VEVENT
UID:58dee7a815d5db8e938eb3f4@squarespace.com
DTSTAMP:20170422T010206Z
DTSTART:20170503T010000Z
DTEND:20170503T030000Z
SUMMARY:Karaoke + DJ Session
END:VEVENT
END:VCALENDAR
