BEGIN:VCALENDAR
VERSION:2.0
PRODID:-//Squarespace Inc/Squarespace 6//v6//EN
BEGIN:VEVENT
UID:58dee7f68419c29a7b101759@squarespace.com
DTSTAMP:20170523T005738Z
DTSTART:20170623T000000Z
DTEND:20170623T035900Z
SUMMARY:Karaoke
END:VEVENT
END:VCALENDAR
