BEGIN:VCALENDAR
VERSION:2.0
PRODID:-//Squarespace Inc/Squarespace 6//v6//EN
BEGIN:VEVENT
UID:5923748ff5e231af38712fc8@squarespace.com
DTSTAMP:20170522T234259Z
DTSTART:20170524T000000Z
DTEND:20170524T035900Z
SUMMARY:DJ Philippo
END:VEVENT
END:VCALENDAR
