BEGIN:VCALENDAR
VERSION:2.0
PRODID:-//Squarespace Inc/Squarespace 6//v6//EN
BEGIN:VEVENT
UID:59237e7103596e80487f9f2f@squarespace.com
DTSTAMP:20170523T002105Z
DTSTART:20170526T003000Z
DTEND:20170526T035900Z
SUMMARY:Karaoke and DJ Session
END:VEVENT
END:VCALENDAR
