BEGIN:VCALENDAR
VERSION:2.0
PRODID:-//Squarespace Inc/Squarespace 6//v6//EN
BEGIN:VEVENT
UID:59237de01e5b6c95513387a3@squarespace.com
DTSTAMP:20170523T001222Z
DTSTART:20170527T003000Z
DTEND:20170527T035900Z
SUMMARY:Superheroes & Villains Carnivale Party
END:VEVENT
END:VCALENDAR
