BEGIN:VCALENDAR
VERSION:2.0
PRODID:-//Squarespace Inc/Squarespace 6//v6//EN
BEGIN:VEVENT
UID:592387e237c5816ce3435408@squarespace.com
DTSTAMP:20170523T005353Z
DTSTART:20170528T010000Z
DTEND:20170528T035900Z
SUMMARY:Tom Roberts Duo
END:VEVENT
END:VCALENDAR
