BEGIN:VCALENDAR
VERSION:2.0
PRODID:-//Squarespace Inc/Squarespace 6//v6//EN
BEGIN:VEVENT
UID:592373c015cf7dcbbcd9cb17@squarespace.com
DTSTAMP:20170530T101917Z
DTSTART:20170531T013000Z
DTEND:20170531T035900Z
SUMMARY:DJ Philippo
END:VEVENT
END:VCALENDAR
