BEGIN:VCALENDAR
VERSION:2.0
PRODID:-//Squarespace Inc/Squarespace 6//v6//EN
BEGIN:VEVENT
UID:58faa607ff7c50c766bef3f8@squarespace.com
DTSTAMP:20170727T053652Z
DTSTART:20170809T000000Z
DTEND:20170809T035900Z
SUMMARY:Shannon Hunter
END:VEVENT
END:VCALENDAR
