BEGIN:VCALENDAR
VERSION:2.0
PRODID:-//Squarespace Inc/Squarespace 6//v6//EN
BEGIN:VEVENT
UID:592385ba893fc0ac91ba81d7@squarespace.com
DTSTAMP:20170530T102028Z
DTSTART:20170609T010000Z
DTEND:20170609T035900Z
SUMMARY:Nicky G
END:VEVENT
END:VCALENDAR
